BEGIN:VCALENDAR
VERSION:2.0
PRODID:-//Fairfax United Methodist Church - ECPv6.15.18//NONSGML v1.0//EN
CALSCALE:GREGORIAN
METHOD:PUBLISH
X-WR-CALNAME:Fairfax United Methodist Church
X-ORIGINAL-URL:https://fairfaxumc.org
X-WR-CALDESC:Events for Fairfax United Methodist Church
REFRESH-INTERVAL;VALUE=DURATION:PT1H
X-Robots-Tag:noindex
X-PUBLISHED-TTL:PT1H
BEGIN:VTIMEZONE
TZID:America/New_York
BEGIN:DAYLIGHT
TZOFFSETFROM:-0500
TZOFFSETTO:-0400
TZNAME:EDT
DTSTART:20250309T070000
END:DAYLIGHT
BEGIN:STANDARD
TZOFFSETFROM:-0400
TZOFFSETTO:-0500
TZNAME:EST
DTSTART:20251102T060000
END:STANDARD
BEGIN:DAYLIGHT
TZOFFSETFROM:-0500
TZOFFSETTO:-0400
TZNAME:EDT
DTSTART:20260308T070000
END:DAYLIGHT
BEGIN:STANDARD
TZOFFSETFROM:-0400
TZOFFSETTO:-0500
TZNAME:EST
DTSTART:20261101T060000
END:STANDARD
BEGIN:DAYLIGHT
TZOFFSETFROM:-0500
TZOFFSETTO:-0400
TZNAME:EDT
DTSTART:20270314T070000
END:DAYLIGHT
BEGIN:STANDARD
TZOFFSETFROM:-0400
TZOFFSETTO:-0500
TZNAME:EST
DTSTART:20271107T060000
END:STANDARD
END:VTIMEZONE
BEGIN:VEVENT
DTSTART;VALUE=DATE:20260301
DTEND;VALUE=DATE:20260309
DTSTAMP:20260419T091316
CREATED:20251106T170334Z
LAST-MODIFIED:20260219T150437Z
UID:10002392-1772323200-1773014399@fairfaxumc.org
SUMMARY:Hypothermia Shelter
DESCRIPTION:Fairfax UMC hosts the Hypothermia Shelter in 2026 the week of March 1–8\, 2026. During the Hypothermia Shelter\, church volunteers and the FACETS staff provide overnight shelter\, food\, and fellowship for our registered adult guests. We need many people to help welcome\, feed\, shelter\, and show God’s love to our neighbors without housing\, and there are equally many ways that you can contribute. \nDo you show God’s love for others by cooking delicious food? Sponsor an evening meal\, a breakfast casserole\, or evening snacks. Do you show God’s love by making people feel welcomed and cared for? Sign up to be an evening volunteer or an early morning breakfast server. Do you show God’s love by helping behind the scenes? Consider being a team captain for a part of Hypothermia week\, set up an afternoon snack before guests arrive\, or plan to donate clothing items and gift cards. Are you gifted with organization and communication skills or a heart to serve through facilitating a small team? We need team leaders for evenings\, afternoons\, and mornings. Contact Christie Johnson at christie.johnson92@gmail.com for more information. Ready to commit? Click here to sign up for your choice of role.
URL:https://fairfaxumc.org/event/hypothermia-shelter-2/
LOCATION:Fairfax United Methodist Church\, 10300 Stratford Avenue\, Fairfax\, VA\, 22030\, United States
CATEGORIES:Home Page,Mission
ATTACH;FMTTYPE=image/jpeg:https://fairfaxumc.org/wp-content/uploads/2023/11/2.4.2024_Hypothermia-Shelter.jpg
GEO:38.8579205;-77.3033191
X-APPLE-STRUCTURED-LOCATION;VALUE=URI;X-ADDRESS=Fairfax United Methodist Church 10300 Stratford Avenue Fairfax VA 22030 United States;X-APPLE-RADIUS=500;X-TITLE=10300 Stratford Avenue:geo:-77.3033191,38.8579205
END:VEVENT
BEGIN:VEVENT
DTSTART;TZID=America/New_York:20260304T190000
DTEND;TZID=America/New_York:20260304T210000
DTSTAMP:20260419T091316
CREATED:20250731T142951Z
LAST-MODIFIED:20250922T132810Z
UID:10002351-1772650800-1772658000@fairfaxumc.org
SUMMARY:English as a Second Language (ESL)
DESCRIPTION:Fairfax UMC offers citizenship and ESL classes on Wednesday nights\, September 10\, 2025–May 6\, 2026. Citizenship classes meet at 6:00pm–7:00pm and help students prepare for the US Naturalization Test. ESL classes meet at 7:00–9:00pm. These classes are offered at all levels and are meant for students whose first language is not English. Both classes do require a fee to help cover books and other expenses. ESL classes cost $40 for the whole class year\, and the citizenship class costs $20 for the whole year\, or you can take both classes for $50. You can pay by cash or check at in-person registration or on the first night of class. Tuition assistance and discounts for multiple family members are available. Classes are for students age 18 and older; childcare is not provided at this time. \nIf you are interested in attending ESL or citizenship classes\, please click here to pre-register\, then come to in-person registration on September 3 or September 8. This helps us to assess your needs and determine what class level is best for you. If you have any questions\, please contact the ESL Coordinator\, Laura Zotian\, at eslatfairfaxumc@gmail.com or call or text 703-463-7563. We hope you will join our community of language-learners. \n\nThe English as a Second Language (ESL) fall class session begins Wednesday\, September 10. The ESL team is always seeking passionate volunteers to help us serve our community. No prior teaching experience is required\, just a heart for helping others and a willingness to learn. The team especially needs someone to lead the Citizenship class\, which prepares students for the U.S. Citizenship Test. Other volunteer positions include lead instructors for other classes\, class assistants\, admin support\, and class hosts. These roles involve the following responsibilities: \n\nLead Instructors: Lead classes\, create engaging lessons\, and provide support to students.\nClass Assistants: Help with classroom activities\, offer one-on-one support\, and assist the lead instructor.\nAdministrative Support: Assist with registration\, materials preparation\, and class coordination.\nHosts: Assist students with getting to class and set up an inviting snack time.\n\nCurriculum for each class is provided; all the instructors need to do is guide the students through the material. Training and resources are provided. If you’re interested in volunteering or would like more information\, please contact Laura Zotian the ESL Coordinator at 703-463-7563 or email eslatfairfaxumc@gmail.com. You can also click here to complete the ESL volunteer form. \nFairfax UMC has a rich history of using ESL classes to serve our community and build connections with students from all over the world by allowing people to improve their English language skills in a warm and welcoming environment. We hope to make a meaningful impact on their lives and on our community as a whole. Together\, we can help individuals achieve their language goals and feel more connected to one another. Thank you for considering this opportunity to serve and share the love of Christ through education.
URL:https://fairfaxumc.org/event/english-as-a-second-language-esl-fall-2025/2026-03-04/
LOCATION:Fairfax United Methodist Church\, 10300 Stratford Avenue\, Fairfax\, VA\, 22030\, United States
CATEGORIES:General,Mission
ATTACH;FMTTYPE=image/jpeg:https://fairfaxumc.org/wp-content/uploads/2024/08/9.11.2024_ESL-scaled.jpg
GEO:38.8579205;-77.3033191
X-APPLE-STRUCTURED-LOCATION;VALUE=URI;X-ADDRESS=Fairfax United Methodist Church 10300 Stratford Avenue Fairfax VA 22030 United States;X-APPLE-RADIUS=500;X-TITLE=10300 Stratford Avenue:geo:-77.3033191,38.8579205
END:VEVENT
BEGIN:VEVENT
DTSTART;TZID=America/New_York:20260306T150000
DTEND;TZID=America/New_York:20260306T190000
DTSTAMP:20260419T091316
CREATED:20240930T173805Z
LAST-MODIFIED:20240930T173805Z
UID:10000691-1772809200-1772823600@fairfaxumc.org
SUMMARY:FACETS Meal Preparation
DESCRIPTION:At 3:00pm on the first and third Fridays of each month\, FACETS volunteers from FUMC prepare and deliver hot meals for families and individuals who are homeless in our community. Please contact Jim Conklin to assist with this critical ministry. Volunteers to cook and deliver the meals are always needed.
URL:https://fairfaxumc.org/event/facets-meal-preparation/2026-03-06/
LOCATION:Fairfax United Methodist Church\, 10300 Stratford Avenue\, Fairfax\, VA\, 22030\, United States
CATEGORIES:Mission
ATTACH;FMTTYPE=image/jpeg:https://fairfaxumc.org/wp-content/uploads/2020/11/FACETS_events.jpg
GEO:38.8579205;-77.3033191
X-APPLE-STRUCTURED-LOCATION;VALUE=URI;X-ADDRESS=Fairfax United Methodist Church 10300 Stratford Avenue Fairfax VA 22030 United States;X-APPLE-RADIUS=500;X-TITLE=10300 Stratford Avenue:geo:-77.3033191,38.8579205
END:VEVENT
END:VCALENDAR